{"text_format":"1","workbook":"xlsx","n_sheets":6,"sheets":["はじめに","入力","雛形","リスト","創意工夫等一覧表（提出用）","【右側に提出用シートを生成】⇒"],"not_rendered":{"charts":0,"images":1,"macros":1,"external_links":1,"defined_names":25,"comments":0,"pivot_tables":0},"unopened":[],"bounds":{"document_bytes":16777216,"sheet_cells":100000,"rows_first":2000,"rows_last":500,"rows_between":2000,"halvings":0,"cell_chars":16384,"cell_head_chars":4096},"cells_cut":0,"cells_raw":0,"read":"whole","date_system":"1900"}

{"sheet":"はじめに","index":0,"n_rows":1,"n_cols":22,"rows_kept":1,"cut":false,"hidden":false,"merged":[]}
[null,null,null,null,null,null,null,null,null,null,null,null,null,null,null,null,null,null,null,null,null,"印刷A3"]

{"sheet":"入力","index":1,"n_rows":28,"n_cols":11,"rows_kept":28,"cut":false,"hidden":false,"merged":[[5,0,5,3],[5,4,5,6],[6,4,6,6],[6,0,6,3]]}
["契約番号","営繕課－",null,"－",null,"←　緑セルに入力",null,null,null,null,"印刷A3"]
["工事名",null,null,null,null,"←　緑セルに入力"]
["請負者名",null,null,null,null,"←　緑セルに入力"]
[]
["シート名","契約番号","工事名","請負者名","項目","細別","評価対象項目","提案内容","説明","評価結果","備考"]
["自動入力",null,null,null,"プルダウン選択",null,null,"手入力","手入力","プルダウン選択","手入力"]
["Ｅ列入力で自動表示（編集しないでください。）",null,null,null,"次の順番でプルダウンから選択（項目⇒細別⇒評価対象項目）",null,null,"次の3項目を具体的かつ端的に記載（①②③をそれぞれ記載）\n①工夫を行う理由や目的　\n②工夫の独創性やノウハウなど評価のポイント　\n③発揮される効果",null,"監督員入力","監督員入力\n（評価した又はしなかったポイントなど）"]
[{"$f":"IF(E8<>\"\",ROW(A1)&\"-\"&E8,\"\")","v":""},{"$f":"IF(E8=\"\",\"\",$B$1&$C$1&$D$1&$E$1)","v":""},{"$f":"IF(E8=\"\",\"\",$B$2)","v":""},{"$f":"IF(E8=\"\",\"\",$B$3)","v":""},null,null,null,"①\n②\n③"]
[{"$f":"IF(E9<>\"\",ROW(A2)&\"-\"&E9,\"\")","v":""},{"$f":"IF(E9=\"\",\"\",$B$1&$C$1&$D$1&$E$1)","v":""},{"$f":"IF(E9=\"\",\"\",$B$2)","v":""},{"$f":"IF(E9=\"\",\"\",$B$3)","v":""},null,null,null,"①\n②\n③"]
["","","","",null,null,null,"①\n②\n③"]
["","","","",null,null,null,"①\n②\n③"]
["","","","",null,null,null,"①\n②\n③"]
["","","","",null,null,null,"①\n②\n③"]
["","","","",null,null,null,"①\n②\n③"]
["","","","",null,null,null,"①\n②\n③"]
["","","","",null,null,null,"①\n②\n③"]
["","","","",null,null,null,"①\n②\n③"]
["","","","",null,null,null,"①\n②\n③"]
["","","","",null,null,null,"①\n②\n③"]
["","","","",null,null,null,"①\n②\n③"]
["","","","",null,null,null,"①\n②\n③"]
["","","","",null,null,null,"①\n②\n③"]
["","","","",null,null,null,"①\n②\n③"]
["","","","",null,null,null,"①\n②\n③"]
["","","","",null,null,null,"①\n②\n③"]
["","","","",null,null,null,"①\n②\n③"]
["","","","",null,null,null,"①\n②\n③"]
[null,null,null,null,"↑注意：このＥ列の入力が消えると生成したシートが削除されます。（元に戻す不可）"]

{"sheet":"雛形","index":2,"n_rows":53,"n_cols":10,"rows_kept":53,"cut":false,"hidden":false,"merged":[[0,0,0,8],[4,1,4,8],[2,1,2,8],[3,1,3,8],[20,0,51,8],[8,0,12,0],[8,1,12,8],[14,0,18,8],[6,1,6,8],[5,1,5,8],[7,1,7,8]]}
["創意工夫・工事特性・社会性等に関する実施状況（説明資料）"]
[null,null,null,null,null,null,null,null,null,"←シート名自動入力"]
["契約番号",{"$f":"\"営繕課\"&入力!C1&\"－\"&入力!E1","v":"営繕課－"},null,null,null,null,null,null,null,"←自動入力"]
["工事名",{"$f":"入力!$B$2","v":0},null,null,null,null,null,null,null,"←自動入力"]
["請負者",{"$f":"入力!$B$3","v":0},null,null,null,null,null,null,null,"←自動入力"]
["項目",{"$f":"入力!$E$8","v":0},null,null,null,null,null,null,null,"←自動入力"]
["細別",{"$f":"入力!$F$8","v":0},null,null,null,null,null,null,null,"←自動入力"]
["評価対象項目",{"$f":"入力!$G$8","v":0},null,null,null,null,null,null,null,"←自動入力"]
["提案内容",{"$f":"入力!$H$8","v":"①\n②\n③"},null,null,null,null,null,null,null,"←自動入力"]
[]
[]
[]
[]
["（説明）",null,null,null,null,null,null,null,null,"←自動入力"]
[{"$f":"入力!$I$8","v":0}]
[]
[]
[]
[]
["（添付図）",null,null,null,null,null,null,null,null,"←手入力"]
[]
[]
[]
[]
[]
[]
[]
[]
[]
[]
[]
[]
[]
[]
[]
[]
[]
[]
[]
[]
[]
[]
[]
[]
[]
[]
[]
[]
[]
[]
[]
[]
["説明資料は簡潔に作成するものとし、必要に応じて別葉とする。"]

{"sheet":"リスト","index":3,"n_rows":90,"n_cols":3,"rows_kept":90,"cut":false,"hidden":false,"merged":[[3,0,49,0],[50,0,57,0],[58,0,89,0],[78,1,89,1],[73,1,77,1],[69,1,72,1],[65,1,68,1],[62,1,64,1],[58,1,61,1],[3,1,5,1],[50,1,57,1],[44,1,49,1],[38,1,43,1],[29,1,37,1],[23,1,28,1],[6,1,22,1]]}
["創意工夫等リスト",null,"印刷A3"]
[]
["項目","細別","評価対象項目"]
["創意工夫","Ⅰ準備・後かたづけ","①測量・位置出しにおける工夫"]
["創意工夫","Ⅰ準備・後かたづけ","②現地調査方法の工夫"]
["創意工夫","Ⅰ準備・後かたづけ","③その他"]
["創意工夫","Ⅱ施工関係","④施工に伴う器具・工具・装置類の工夫"]
["創意工夫","Ⅱ施工関係","⑤工場加工製品等の活用による副産物及び廃棄物の減少又はリサイクルに対する積極的な取り組み"]
["創意工夫","Ⅱ施工関係","⑥土工事、地業工事、鉄骨建て方、コンクリート工事等の施工関係の工夫"]
["創意工夫","Ⅱ施工関係","⑦建築材料・建材等の運搬・搬入等を含む施工方法の工夫"]
["創意工夫","Ⅱ施工関係","⑧電気設備工事等の配線、配管等の工夫"]
["創意工夫","Ⅱ施工関係","⑨暖冷房衛生設備工事等の配管、ダクト等の工夫"]
["創意工夫","Ⅱ施工関係","⑩照明・視界確保等の工夫"]
["創意工夫","Ⅱ施工関係","⑪仮排水、仮道路、迂回路等の計画・施工の工夫"]
["創意工夫","Ⅱ施工関係","⑫運搬車両・施工機械等の工夫"]
["創意工夫","Ⅱ施工関係","⑬型枠、足場、山留め等の仮設関係の工夫"]
["創意工夫","Ⅱ施工関係","⑭施工管理及び品質向上等の工夫"]
["創意工夫","Ⅱ施工関係","⑮プレハブ工法等の採用による工期短縮等の工夫"]
["創意工夫","Ⅱ施工関係","⑯仮設施工等の工夫"]
["創意工夫","Ⅱ施工関係","⑰既存施設・近隣等に対する騒音・振動対策等の工夫"]
["創意工夫","Ⅱ施工関係","⑱保全への配慮による材料選定・施工方法等の工夫"]
["創意工夫","Ⅱ施工関係","⑲作業の安全性向上のための施工方法等の工夫"]
["創意工夫","Ⅱ施工関係","⑳その他"]
["創意工夫","Ⅲ品質関係","㉑集計ソフト等の活用と工夫"]
["創意工夫","Ⅲ品質関係","㉒躯体工事の品質管理の工夫"]
["創意工夫","Ⅲ品質関係","㉓建築材料・機材の検査・試験に関する工夫"]
["創意工夫","Ⅲ品質関係","㉔施工の検査・試験に関する工夫"]
["創意工夫","Ⅲ品質関係","㉕品質記録方法の工夫"]
["創意工夫","Ⅲ品質関係","㉖その他"]
["創意工夫","Ⅳ安全衛生関係","㉗安全仮設備等の工夫（落下物、墜落・転落、挟まれ、看板、立入禁止柵、手摺り、足場等）"]
["創意工夫","Ⅳ安全衛生関係","㉘安全衛生教育、技術向上講習会等、ミーティング、安全パトロール等に関する工夫"]
["創意工夫","Ⅳ安全衛生関係","㉙現場事務所、休憩所等の環境向上の工夫"]
["創意工夫","Ⅳ安全衛生関係","㉚酸欠対策・有毒ガス・可燃ガスの処理または粉塵防止策や作業中の換気等の工夫"]
["創意工夫","Ⅳ安全衛生関係","㉛周辺道路等の事故防止または一般交通確保等のための工夫"]
["創意工夫","Ⅳ安全衛生関係","㉜改修工事における既存施設利用者等に対する安全対策の工夫"]
["創意工夫","Ⅳ安全衛生関係","㉝作業時における作業環境改善等の工夫"]
["創意工夫","Ⅳ安全衛生関係","㉞ゴミの減量化、アイドリングストップの励行等の地球環境への工夫"]
["創意工夫","Ⅳ安全衛生関係","㉟その他"]
["創意工夫","Ⅴ施工管理関係","㊱出来形の管理等に関する工夫"]
["創意工夫","Ⅴ施工管理関係","㊲施工計画書または写真等に関する工夫"]
["創意工夫","Ⅴ施工管理関係","㊳出来形・品質に関する計測等の工夫及び集計の工夫"]
["創意工夫","Ⅴ施工管理関係","㊴CAD、施工管理ソフト等の活用"]
["創意工夫","Ⅴ施工管理関係","㊵施工合理化技術を活用した施工管理の工夫"]
["創意工夫","Ⅴ施工管理関係","㊶その他"]
["創意工夫","Ⅵ新技術活用","㊷（該当技術数：）ＮＥＴＩＳ登録技術のうち、事後評価未実施技術または事後評価で「有用とされる技術」と評価された技術を活用し、活用の効果が相当程度確認できた。（３点）"]
["創意工夫","Ⅵ新技術活用","㊸（該当技術数：）ＮＥＴＩＳ登録技術のうち、事後評価未実施技術または事後評価で「有用とされる技術」と評価された技術を活用し、活用の効果が一定程度確認できた。（２点）"]
["創意工夫","Ⅵ新技術活用","㊹（該当技術数：）ＮＥＴＩＳ登録技術のうち、事後評価未実施技術または事後評価で「有用とされる技術」と評価された技術を活用し、活用の効果が従来技術と同程度である。（１点）"]
["創意工夫","Ⅵ新技術活用","㊺（該当技術数：）ＮＥＴＩＳ登録技術のうち事後評価実施済み技術（「有用とされる技術」を除く）を活用し、活用の効果が相当程度確認できた。（２点）"]
["創意工夫","Ⅵ新技術活用","㊻（該当技術数：）ＮＥＴＩＳ登録技術のうち事後評価実施済み技術（「有用とされる技術」を除く）を活用し、活用の効果が一定程度確認できた。（１点）"]
["創意工夫","Ⅵ新技術活用","㊼その他"]
["社会性等","―","①災害時等に地域への救援活動等に協力した。"]
["社会性等","―","②周辺地域の環境保全、生物保護等について、具体的な対策をした。"]
["社会性等","―","③現場事務所や作業現場の環境を周辺地域との景観に合わせる等、周辺地域との調和を図った。"]
["社会性等","―","④広報活動や現場見学会等を実施して、地域とのコミュニケーションを図った。"]
["社会性等","―","⑤地域イベントへの協力やボランティア活動等への協力や参加をした。"]
["社会性等","―","⑥「溶融スラグ有効利用ガイドライン」に規定された製品の積極的利用。"]
["社会性等","―","⑦廃棄物を積極的に県内で処理し、廃棄物の自県内処理に貢献した。（リサイクルできない廃棄物がある場合）"]
["社会性等","―","⑧その他"]
["工事特性","Ⅰ建物規模への対応","①延べ面積10,000ｍ2以上の建物"]
["工事特性","Ⅰ建物規模への対応","②地上９階以上又は建物高さ３１ｍ以上の建物"]
["工事特性","Ⅰ建物規模への対応","③大空間のホール等を有する建物"]
["工事特性","Ⅰ建物規模への対応","④その他"]
["工事特性","Ⅱ建物固有の機能の難しさへの対応","⑤対象建物の耐震レベル"]
["工事特性","Ⅱ建物固有の機能の難しさへの対応","⑥建物機能の特殊性"]
["工事特性","Ⅱ建物固有の機能の難しさへの対応","⑦その他"]
["工事特性","Ⅲ建物固有の施工技術の難しさへの対応","⑧建築材料、設備機材、工法について、提案がある場合"]
["工事特性","Ⅲ建物固有の施工技術の難しさへの対応","⑨設計条件として、工法、材料及び設備システム（機材を含む）の特殊性"]
["工事特性","Ⅲ建物固有の施工技術の難しさへの対応","⑩制約条件等があり、施工難度が特に高い場合"]
["工事特性","Ⅲ建物固有の施工技術の難しさへの対応","⑪その他"]
["工事特性","Ⅳ厳しい自然・地盤条件への対応","⑫湧水の発生、地下水の影響（地盤掘削時）"]
["工事特性","Ⅳ厳しい自然・地盤条件への対応","⑬軟弱地盤，支持地盤の影響"]
["工事特性","Ⅳ厳しい自然・地盤条件への対応","⑭雨・雪・風・気温等の影響"]
["工事特性","Ⅳ厳しい自然・地盤条件への対応","⑮その他"]
["工事特性","Ⅴ厳しい周辺環境等・社会条件への対応","⑯地中埋設物等への作業障害"]
["工事特性","Ⅴ厳しい周辺環境等・社会条件への対応","⑰工事の影響に配慮すべき建物等の近接物"]
["工事特性","Ⅴ厳しい周辺環境等・社会条件への対応","⑱周辺住民等に対する騒音・振動の配慮"]
["工事特性","Ⅴ厳しい周辺環境等・社会条件への対応","⑲周辺水域環境に対する水質汚濁の配慮"]
["工事特性","Ⅴ厳しい周辺環境等・社会条件への対応","⑳その他"]
["工事特性","Ⅵ施工現場での対応","㉑12ヶ月を超える工期で、事故がなく完成した工事（全面一時中止期間は除く）"]
["工事特性","Ⅵ施工現場での対応","㉒地震、台風などにおいて、適切に臨機の対応を行った工事"]
["工事特性","Ⅵ施工現場での対応","㉓工事の実施にあたり、各種の制約があり、工程的にも特に厳しく、施工の制限を受けた工事"]
["工事特性","Ⅵ施工現場での対応","㉔工程上他工事の制約を受け、機械、人員の増強を行った工事"]
["工事特性","Ⅵ施工現場での対応","㉕休日・夜間作業が工程の過半を超える工事"]
["工事特性","Ⅵ施工現場での対応","㉖施設を使用しながらの工事で、工程的な制約が特に厳しい工事"]
["工事特性","Ⅵ施工現場での対応","㉗特に困難な調整を要する他工事（近接工区）の請負者が複数ある工事"]
["工事特性","Ⅵ施工現場での対応","㉘外来者の多い施設で、作業範囲内に外来者・通行人等の動線がある工事"]
["工事特性","Ⅵ施工現場での対応","㉙特殊な室などで、工種が輻輳し困難な調整を要する工事"]
["工事特性","Ⅵ施工現場での対応","㉚施工ヤードが狭く、高さ制限もあり、施工及び機械の移動や旋回等に制約を受けた工事"]
["工事特性","Ⅵ施工現場での対応","㉛同一敷地内における施設を使用しながらの建て替え工事で、工程の制約等が特に厳しい工事"]
["工事特性","Ⅵ施工現場での対応","㉜その他"]

{"sheet":"創意工夫等一覧表（提出用）","index":4,"n_rows":32,"n_cols":8,"rows_kept":32,"cut":false,"hidden":false,"merged":[[7,7,8,7],[7,0,8,0],[7,2,8,2],[7,4,8,4],[7,3,8,3],[7,5,8,5],[7,6,8,6]]}
[]
["創意工夫等一覧表（全ての項目が入力シートからリンク）",null,null,null,null,null,null,"印刷A3ヨコ"]
[]
["工事番号",null,{"$f":"IF(入力!$B$8=\"\",\"\",入力!$B$8)","v":""}]
["工事名",null,{"$f":"IF(入力!$B$2=\"\",\"\",入力!$B$2)","v":""}]
["請負業者",null,{"$f":"IF(入力!$B$3=\"\",\"\",入力!$B$3)","v":""}]
[]
["No.－項目",null,"細別","評価対象項目","提案内容","説明","評価結果","備考"]
[]
[{"$f":"入力!A8","v":""},{"$f":"入力!$E8","v":0},{"$f":"IF(入力!$F8=\"\",\"\",入力!$F8)","v":""},{"$f":"IF(入力!$G8=\"\",\"\",入力!$G8)","v":""},{"$f":"IF(入力!$H8=\"\",\"\",入力!$H8)","v":"①\n②\n③"},{"$f":"IF(入力!$H8=\"\",\"\",入力!$I8)","v":0},{"$f":"IF(入力!$H8=\"\",\"\",入力!$J8)","v":0},{"$f":"IF(入力!$H8=\"\",\"\",入力!$K8)","v":0}]
[{"$f":"入力!A9","v":""},{"$f":"入力!$E9","v":0},{"$f":"IF(入力!$F9=\"\",\"\",入力!$F9)","v":""},{"$f":"IF(入力!$G9=\"\",\"\",入力!$G9)","v":""},{"$f":"IF(入力!$H9=\"\",\"\",入力!$H9)","v":"①\n②\n③"},{"$f":"IF(入力!$H9=\"\",\"\",入力!$I9)","v":0},{"$f":"IF(入力!$H9=\"\",\"\",入力!$J9)","v":0},{"$f":"IF(入力!$H9=\"\",\"\",入力!$K9)","v":0}]
[{"$f":"入力!A10","v":""},{"$f":"入力!$E10","v":0},{"$f":"IF(入力!$F10=\"\",\"\",入力!$F10)","v":""},{"$f":"IF(入力!$G10=\"\",\"\",入力!$G10)","v":""},{"$f":"IF(入力!$H10=\"\",\"\",入力!$H10)","v":"①\n②\n③"},{"$f":"IF(入力!$H10=\"\",\"\",入力!$I10)","v":0},{"$f":"IF(入力!$H10=\"\",\"\",入力!$J10)","v":0},{"$f":"IF(入力!$H10=\"\",\"\",入力!$K10)","v":0}]
[{"$f":"入力!A11","v":""},{"$f":"入力!$E11","v":0},{"$f":"IF(入力!$F11=\"\",\"\",入力!$F11)","v":""},{"$f":"IF(入力!$G11=\"\",\"\",入力!$G11)","v":""},{"$f":"IF(入力!$H11=\"\",\"\",入力!$H11)","v":"①\n②\n③"},{"$f":"IF(入力!$H11=\"\",\"\",入力!$I11)","v":0},{"$f":"IF(入力!$H11=\"\",\"\",入力!$J11)","v":0},{"$f":"IF(入力!$H11=\"\",\"\",入力!$K11)","v":0}]
[{"$f":"入力!A12","v":""},{"$f":"入力!$E12","v":0},{"$f":"IF(入力!$F12=\"\",\"\",入力!$F12)","v":""},{"$f":"IF(入力!$G12=\"\",\"\",入力!$G12)","v":""},{"$f":"IF(入力!$H12=\"\",\"\",入力!$H12)","v":"①\n②\n③"},{"$f":"IF(入力!$H12=\"\",\"\",入力!$I12)","v":0},{"$f":"IF(入力!$H12=\"\",\"\",入力!$J12)","v":0},{"$f":"IF(入力!$H12=\"\",\"\",入力!$K12)","v":0}]
[{"$f":"入力!A13","v":""},{"$f":"入力!$E13","v":0},{"$f":"IF(入力!$F13=\"\",\"\",入力!$F13)","v":""},{"$f":"IF(入力!$G13=\"\",\"\",入力!$G13)","v":""},{"$f":"IF(入力!$H13=\"\",\"\",入力!$H13)","v":"①\n②\n③"},{"$f":"IF(入力!$H13=\"\",\"\",入力!$I13)","v":0},{"$f":"IF(入力!$H13=\"\",\"\",入力!$J13)","v":0},{"$f":"IF(入力!$H13=\"\",\"\",入力!$K13)","v":0}]
[{"$f":"入力!A14","v":""},{"$f":"入力!$E14","v":0},{"$f":"IF(入力!$F14=\"\",\"\",入力!$F14)","v":""},{"$f":"IF(入力!$G14=\"\",\"\",入力!$G14)","v":""},{"$f":"IF(入力!$H14=\"\",\"\",入力!$H14)","v":"①\n②\n③"},{"$f":"IF(入力!$H14=\"\",\"\",入力!$I14)","v":0},{"$f":"IF(入力!$H14=\"\",\"\",入力!$J14)","v":0},{"$f":"IF(入力!$H14=\"\",\"\",入力!$K14)","v":0}]
[{"$f":"入力!A15","v":""},{"$f":"入力!$E15","v":0},{"$f":"IF(入力!$F15=\"\",\"\",入力!$F15)","v":""},{"$f":"IF(入力!$G15=\"\",\"\",入力!$G15)","v":""},{"$f":"IF(入力!$H15=\"\",\"\",入力!$H15)","v":"①\n②\n③"},{"$f":"IF(入力!$H15=\"\",\"\",入力!$I15)","v":0},{"$f":"IF(入力!$H15=\"\",\"\",入力!$J15)","v":0},{"$f":"IF(入力!$H15=\"\",\"\",入力!$K15)","v":0}]
[{"$f":"入力!A16","v":""},{"$f":"入力!$E16","v":0},{"$f":"IF(入力!$F16=\"\",\"\",入力!$F16)","v":""},{"$f":"IF(入力!$G16=\"\",\"\",入力!$G16)","v":""},{"$f":"IF(入力!$H16=\"\",\"\",入力!$H16)","v":"①\n②\n③"},{"$f":"IF(入力!$H16=\"\",\"\",入力!$I16)","v":0},{"$f":"IF(入力!$H16=\"\",\"\",入力!$J16)","v":0},{"$f":"IF(入力!$H16=\"\",\"\",入力!$K16)","v":0}]
[{"$f":"入力!A17","v":""},{"$f":"入力!$E17","v":0},{"$f":"IF(入力!$F17=\"\",\"\",入力!$F17)","v":""},{"$f":"IF(入力!$G17=\"\",\"\",入力!$G17)","v":""},{"$f":"IF(入力!$H17=\"\",\"\",入力!$H17)","v":"①\n②\n③"},{"$f":"IF(入力!$H17=\"\",\"\",入力!$I17)","v":0},{"$f":"IF(入力!$H17=\"\",\"\",入力!$J17)","v":0},{"$f":"IF(入力!$H17=\"\",\"\",入力!$K17)","v":0}]
[{"$f":"入力!A18","v":""},{"$f":"入力!$E18","v":0},{"$f":"IF(入力!$F18=\"\",\"\",入力!$F18)","v":""},{"$f":"IF(入力!$G18=\"\",\"\",入力!$G18)","v":""},{"$f":"IF(入力!$H18=\"\",\"\",入力!$H18)","v":"①\n②\n③"},{"$f":"IF(入力!$H18=\"\",\"\",入力!$I18)","v":0},{"$f":"IF(入力!$H18=\"\",\"\",入力!$J18)","v":0},{"$f":"IF(入力!$H18=\"\",\"\",入力!$K18)","v":0}]
[{"$f":"入力!A19","v":""},{"$f":"入力!$E19","v":0},{"$f":"IF(入力!$F19=\"\",\"\",入力!$F19)","v":""},{"$f":"IF(入力!$G19=\"\",\"\",入力!$G19)","v":""},{"$f":"IF(入力!$H19=\"\",\"\",入力!$H19)","v":"①\n②\n③"},{"$f":"IF(入力!$H19=\"\",\"\",入力!$I19)","v":0},{"$f":"IF(入力!$H19=\"\",\"\",入力!$J19)","v":0},{"$f":"IF(入力!$H19=\"\",\"\",入力!$K19)","v":0}]
[{"$f":"入力!A20","v":""},{"$f":"入力!$E20","v":0},{"$f":"IF(入力!$F20=\"\",\"\",入力!$F20)","v":""},{"$f":"IF(入力!$G20=\"\",\"\",入力!$G20)","v":""},{"$f":"IF(入力!$H20=\"\",\"\",入力!$H20)","v":"①\n②\n③"},{"$f":"IF(入力!$H20=\"\",\"\",入力!$I20)","v":0},{"$f":"IF(入力!$H20=\"\",\"\",入力!$J20)","v":0},{"$f":"IF(入力!$H20=\"\",\"\",入力!$K20)","v":0}]
[{"$f":"入力!A21","v":""},{"$f":"入力!$E21","v":0},{"$f":"IF(入力!$F21=\"\",\"\",入力!$F21)","v":""},{"$f":"IF(入力!$G21=\"\",\"\",入力!$G21)","v":""},{"$f":"IF(入力!$H21=\"\",\"\",入力!$H21)","v":"①\n②\n③"},{"$f":"IF(入力!$H21=\"\",\"\",入力!$I21)","v":0},{"$f":"IF(入力!$H21=\"\",\"\",入力!$J21)","v":0},{"$f":"IF(入力!$H21=\"\",\"\",入力!$K21)","v":0}]
[{"$f":"入力!A22","v":""},{"$f":"入力!$E22","v":0},{"$f":"IF(入力!$F22=\"\",\"\",入力!$F22)","v":""},{"$f":"IF(入力!$G22=\"\",\"\",入力!$G22)","v":""},{"$f":"IF(入力!$H22=\"\",\"\",入力!$H22)","v":"①\n②\n③"},{"$f":"IF(入力!$H22=\"\",\"\",入力!$I22)","v":0},{"$f":"IF(入力!$H22=\"\",\"\",入力!$J22)","v":0},{"$f":"IF(入力!$H22=\"\",\"\",入力!$K22)","v":0}]
[{"$f":"入力!A23","v":""},{"$f":"入力!$E23","v":0},{"$f":"IF(入力!$F23=\"\",\"\",入力!$F23)","v":""},{"$f":"IF(入力!$G23=\"\",\"\",入力!$G23)","v":""},{"$f":"IF(入力!$H23=\"\",\"\",入力!$H23)","v":"①\n②\n③"},{"$f":"IF(入力!$H23=\"\",\"\",入力!$I23)","v":0},{"$f":"IF(入力!$H23=\"\",\"\",入力!$J23)","v":0},{"$f":"IF(入力!$H23=\"\",\"\",入力!$K23)","v":0}]
[{"$f":"入力!A24","v":""},{"$f":"入力!$E24","v":0},{"$f":"IF(入力!$F24=\"\",\"\",入力!$F24)","v":""},{"$f":"IF(入力!$G24=\"\",\"\",入力!$G24)","v":""},{"$f":"IF(入力!$H24=\"\",\"\",入力!$H24)","v":"①\n②\n③"},{"$f":"IF(入力!$H24=\"\",\"\",入力!$I24)","v":0},{"$f":"IF(入力!$H24=\"\",\"\",入力!$J24)","v":0},{"$f":"IF(入力!$H24=\"\",\"\",入力!$K24)","v":0}]
[{"$f":"入力!A25","v":""},{"$f":"入力!$E25","v":0},{"$f":"IF(入力!$F25=\"\",\"\",入力!$F25)","v":""},{"$f":"IF(入力!$G25=\"\",\"\",入力!$G25)","v":""},{"$f":"IF(入力!$H25=\"\",\"\",入力!$H25)","v":"①\n②\n③"},{"$f":"IF(入力!$H25=\"\",\"\",入力!$I25)","v":0},{"$f":"IF(入力!$H25=\"\",\"\",入力!$J25)","v":0},{"$f":"IF(入力!$H25=\"\",\"\",入力!$K25)","v":0}]
[{"$f":"入力!A26","v":""},{"$f":"入力!$E26","v":0},{"$f":"IF(入力!$F26=\"\",\"\",入力!$F26)","v":""},{"$f":"IF(入力!$G26=\"\",\"\",入力!$G26)","v":""},{"$f":"IF(入力!$H26=\"\",\"\",入力!$H26)","v":"①\n②\n③"},{"$f":"IF(入力!$H26=\"\",\"\",入力!$I26)","v":0},{"$f":"IF(入力!$H26=\"\",\"\",入力!$J26)","v":0},{"$f":"IF(入力!$H26=\"\",\"\",入力!$K26)","v":0}]
[{"$f":"入力!A27","v":""},{"$f":"入力!$E27","v":0},{"$f":"IF(入力!$F27=\"\",\"\",入力!$F27)","v":""},{"$f":"IF(入力!$G27=\"\",\"\",入力!$G27)","v":""},{"$f":"IF(入力!$H27=\"\",\"\",入力!$H27)","v":"①\n②\n③"},{"$f":"IF(入力!$H27=\"\",\"\",入力!$I27)","v":0},{"$f":"IF(入力!$H27=\"\",\"\",入力!$J27)","v":0},{"$f":"IF(入力!$H27=\"\",\"\",入力!$K27)","v":0}]
["※請負者は評価欄への記入はしないでください。\n"]
["※監督員は評価欄の無着色セルに評価（○又は×）をリストから選択\n　（創意工夫：一次、社会性等又は工事特性：二次）"]
["※行の高さの調整は、「書式」⇒「行の高さの自動調節」で行ってください。"]

{"sheet":"【右側に提出用シートを生成】⇒","index":5,"n_rows":0,"n_cols":0,"rows_kept":0,"cut":false,"hidden":false,"merged":[]}