Workbook

Sheet 第1号様式
A2: 別記第１号様式（第６条関係）
F3: 第 号
F4: 令和 年 月 日
A7: 山梨県知事 殿
D10: 法人所在地 | F10: 〒
D12: 法人名称
D13: 代表者の職氏名
A17: 令和 年度 山梨県ケアマネジメント提供体制確保支援事業費補助金交付申請書
A20: このことについて、下記により関係書類を添えて申請します。
C23: 記
A25: １ 申請額 | B25: 金 | C25: ='２所要額調書（別紙１）'!F41 -> 0 | D25: 円
A27: ２ 所要額調書（別紙１）
A29: ３ 事業計画書（別紙２）
A31: ４ 添付書類
A32: （１）見積書及び積算書の写し
A33: （２）仕様書及び計画書等の事業予定内容が分かる書類の写し
A34: （３）その他知事が必要と認める書類
C38: （申請者）
C39: 本件担当者の職・氏名 | E39: 職名
E40: 氏名
C41: 担当者の連絡先 | E41: 電話番号
E42: E-mail

Sheet ２所要額調書（別紙１）
B2: （別紙１）
B3: 山梨県ケアマネジメント提供体制確保支援事業費補助金 所要額調書
D5: サービス種別：
D6: 事業所名：
D7: 事業所番号：
C9: ※緑色付きのセルに数字のみ入力すること（千円未満は切り捨て）
B12: （１）中山間地域採用活動支援事業
B14: =IF(I16>0,"☑","") | C14: 中山間地域における採用活動
C15: 総事業費 | D15: 寄附金 その他の収入額 | E15: 差引額 | F15: 対象経費 支出予定額（Ａ） | G15: 基準額 （Ｂ） | H15: 選定額 （Ａ）と（Ｂ）のうち少ない金額） | I15: 補助額 （千円未満 切り捨て）
C16: ='３事業計画書（別紙２）（中山間）'!D26 -> 0 | E16: =C16-D16 -> 0 | F16: =E16 -> 0 | G16: 300000 | H16: =MIN(F16,G16) -> 0 | I16: =ROUNDDOWN(H16,-3) -> 0
C18: （１）合計 | D18: =I16 -> 0 | E18: 円
B21: （２）業務負担軽減支援事業
B22: =IF(I24>0,"☑","") | C22: 事業所内のタスクシフト支援
C23: 総事業費 | D23: 寄附金 その他の収入額 | E23: 差引額 | F23: 対象経費 支出予定額（Ａ） | G23: 基準額 （Ｂ） | H23: 選定額 （Ａ）と（Ｂ）のうち少ない金額） | I23: 補助額 （千円未満 切り捨て）
C24: ='３事業計画書（別紙２）（負担軽減）'!D27 -> 0 | E24: =C24-D24 -> 0 | F24: =E24 -> 0 | G24: 200000 | H24: =MIN(F24,G24) -> 0 | I24: =ROUNDDOWN(H24,-3) -> 0
C26: （２）合計 | D26: =I24 -> 0 | E26: 円
B29: （３）経営改善支援事業
B30: =IF(I32>0,"☑","") | C30: （ア）経営改善の支援
C31: 総事業費 | D31: 寄附金 その他の収入額 | E31: 差引額 | F31: 対象経費 支出予定額（Ａ） | G31: 基準額 （Ｂ） | H31: 選定額 （Ａ）と（Ｂ）のうち少ない金額） | I31: 補助額 （千円未満 切り捨て）
C32: ='３事業計画書（別紙２）（経営改善）'!D27 -> 0 | E32: =C32-D32 -> 0 | F32: =E32 -> 0 | G32: 400000 | H32: =MIN(F32,G32) -> 0 | I32: =ROUNDDOWN(H32,-3) -> 0
B34: =IF(I36>0,"☑","") | C34: （イ）利用者確保等のための広報活動に関する支援
C35: 総事業費 | D35: 寄附金 その他の収入額 | E35: 差引額 | F35: 対象経費 支出予定額（Ａ） | G35: 基準額 （Ｂ） | H35: 選定額 （Ａ）と（Ｂ）のうち少ない金額） | I35: 補助額 （千円未満 切り捨て）
C36: ='３事業計画書（別紙２）（経営改善）'!D48 -> 0 | E36: =C36-D36 -> 0 | F36: =E36 -> 0 | G36: 300000 | H36: =MIN(F36,G36) -> 0 | I36: =ROUNDDOWN(H36,-3) -> 0
C38: （３）合計 | D38: =I32+I36 -> 0 | E38: 円
B41: 補助計画額の合計（１）+（２）+（３） | F41: =D18+D26+D38 -> 0 | G41: 円

Sheet ３事業計画書（別紙２）（中山間）
A2: （別紙２）
F4: サービス種別(別紙１より転記) | K4: ='２所要額調書（別紙１）'!E5 -> 0
F5: 事業所名(別紙１より転記) | K5: ='２所要額調書（別紙１）'!E6 -> 0
F6: 事業所番号(別紙１より転記) | K6: ='２所要額調書（別紙１）'!E7 -> 0
M8: ①中山間地域に所在
B13: （１）中山間地域採用活動支援事業
B16: ='２所要額調書（別紙１）'!B14 | C16: 中山間地域における採用活動
B18: ① 事業実施期間 | F18: 令和 | H18: 年 | J18: 月 | L18: 日 | M18: ～ | N18: 令和 | P18: 年 | R18: 月 | T18: 日
B19: ② 実施予定の事業内容（枠内に記入）
C20: No | D20: 支出予定額 | F20: 実施予定事業
C26: 合計 | D26: =ROUNDDOWN(SUM(D21:E25),-3) -> 0 | F26: （\1,000未満切り捨て）

Sheet ３事業計画書（別紙２）（負担軽減）
A2: （別紙２）
F4: サービス種別(別紙１より転記) | K4: ='２所要額調書（別紙１）'!E5 -> 0
F5: 事業所名(別紙１より転記) | K5: ='２所要額調書（別紙１）'!E6 -> 0
F6: 事業所番号(別紙１より転記) | K6: ='２所要額調書（別紙１）'!E7 -> 0
B9: （２）業務負担軽減
B11: ='２所要額調書（別紙１）'!B22 | C11: 事業所内のタスクシフト支援
B13: ①事業実施期間 | G13: 令和 | I13: 年 | K13: 月 | M13: 日 | N13: ～ | O13: 令和 | Q13: 年 | S13: 月 | U13: 日
B14: ②実施予定の事業（該当するものに〇をつける）
D15: 事務作業等を行う職員を雇用する
D16: 事務職員等への研修を実施する
B18: （事務作業を行う職員を雇用する場合）
B19: ③雇用期間 | G19: 令和 | I19: 年 | K19: 月 | M19: 日 | N19: ～ | O19: 令和 | Q19: 年 | S19: 月 | U19: 日
B20: ④実施予定の事業内容（枠内に記入）
C21: No | D21: 支出予定額 | F21: 実施予定事業
C27: 合計 | D27: =ROUNDDOWN(SUM(D22:E26),-3) -> 0 | F27: （\1,000未満切り捨て） | AF27: =IF(D27,100000,0) -> 0

Sheet ３事業計画書（別紙２）（経営改善）
A2: （別紙２） | AE2: ○
F4: サービス種別(別紙１より転記) | K4: ='２所要額調書（別紙１）'!E5 -> 0
F5: 事業所名(別紙１より転記) | K5: ='２所要額調書（別紙１）'!E6 -> 0
F6: 事業所番号(別紙１より転記) | K6: ='２所要額調書（別紙１）'!E7 -> 0
B9: （３）経営改善支援
B11: ='２所要額調書（別紙１）'!B30 | C11: （ア）コンサルタント事業者等への委託や事務作業を行うための臨時職員の雇用
B13: ①事業実施期間 | G13: 令和 | I13: 年 | K13: 月 | M13: 日 | N13: ～ | O13: 令和 | Q13: 年 | S13: 月 | U13: 日
B14: ②実施予定の事業（該当するものに〇をつける）
D15: 経営改善の外部コンサルタントに委託を行う
D16: 事務作業等を行う臨時職員を雇用する
B17: （事務作業を行う職員を雇用する場合）
B18: ③雇用期間 | G18: 令和 | I18: 年 | K18: 月 | M18: 日 | N18: ～ | O18: 令和 | Q18: 年 | S18: 月 | U18: 日
B20: ④実施予定の事業内容（枠内に記入）
C21: No | D21: 支出予定額 | F21: 実施予定事業
C27: 合計 | D27: =ROUNDDOWN(SUM(D22:E26),-3) -> 0 | F27: （\1,000未満切り捨て） | AF27: =IF(D27,100000,0) -> 0
B29: ='２所要額調書（別紙１）'!B34 | C29: （イ）介護人材・利用者確保のための広報活動
B31: ①事業実施期間 | G31: 令和 | I31: 年 | K31: 月 | M31: 日 | N31: ～ | O31: 令和 | Q31: 年 | S31: 月 | U31: 日
B33: ②実施予定の事業（該当するものに〇）
D34: ホームページの開設又は改修
D35: リーフレット・チラシの作成
D36: その他の広報事業を実施する（内容を枠内に記入）
B41: ③ 実施予定の事業内容（枠内に記入）
C42: No | D42: 支出予定額 | F42: 実施予定事業
C48: 合計 | D48: =ROUNDDOWN(SUM(D43:E47),-3) -> 0 | F48: （\1,000未満切り捨て） | AF48: =IF(D48,100000,0) -> 0

Sheet （非表示にする）リスト
B1: ２所要額調書（別紙１） | J1: ３事業計画書（別紙２）（中山間）
J4: 該当する | O4: ○
B5: 居宅介護支援事業所 | J5: 該当しない
B6: 介護予防支援事業所
B7: 特定施設入居者生活介護事業所
B8: 介護予防特定施設入居者生活介護事業所
B9: 小規模多機能型居宅介護事業所
B10: 介護予防小規模多機能型居宅介護事業所
B11: 看護小規模多機能型居宅介護事業所
B12: 地域密着型特定施設入居者生活介護事業所
B13: 認知症対応型共同生活介護事業所
B14: 介護予防認知症対応型共同生活介護事業所
B15: 地域密着型介護老人福祉施設
B16: 介護老人福祉施設
B17: 介護老人保健施設
... B19: 介護予防ケアマネジメント事業所
